BEGIN:VCALENDAR
VERSION:2.0
PRODID:-//Goldgrube//myauktion.com//AT
CALSCALE:GREGORIAN
BEGIN:VEVENT
DTSTART:20260504T091500
DTEND:20260504T091530
LOCATION:Gewerbepark 13, 8562 Mooskirchen
DTSTAMP:20260420T162249
SUMMARY:MyAuktion: Ablauf Artikel Nr. 957214 Coppenrath Zirkusbriefe von Felix Buch
URL;VALUE=URI:https://www.myauktion.com/versteigerung7647-position2440447-coppenrath-zirkusbriefe-von-felix-buch.php
DESCRIPTION:Ein kleiner Hase unterwegs zu neuen Abenteuern
UID:myauktion-7647-2440447
BEGIN:VALARM
ACTION:DISPLAY
DESCRIPTION:Ein kleiner Hase unterwegs zu neuen Abenteuern
TRIGGER:-PT10M
END:VALARM
END:VEVENT
END:VCALENDAR