BEGIN:VCALENDAR
VERSION:2.0
PRODID:-//Goldgrube//myauktion.com//AT
CALSCALE:GREGORIAN
BEGIN:VEVENT
DTSTART:20260504T091600
DTEND:20260504T091630
LOCATION:Gewerbepark 13, 8562 Mooskirchen
DTSTAMP:20260420T162247
SUMMARY:MyAuktion: Ablauf Artikel Nr. 957215 Karen Swan Der verlorene Liebhaber Die Insel Töchter
URL;VALUE=URI:https://www.myauktion.com/versteigerung7647-position2440448-karen-swan-der-verlorene-liebhaber-die-insel-toechter.php
DESCRIPTION:
UID:myauktion-7647-2440448
BEGIN:VALARM
ACTION:DISPLAY
DESCRIPTION:
TRIGGER:-PT10M
END:VALARM
END:VEVENT
END:VCALENDAR