BEGIN:VCALENDAR
VERSION:2.0
PRODID:-//Goldgrube//myauktion.com//AT
CALSCALE:GREGORIAN
BEGIN:VEVENT
DTSTART:20260504T091900
DTEND:20260504T091930
LOCATION:Gewerbepark 13, 8562 Mooskirchen
DTSTAMP:20260420T162251
SUMMARY:MyAuktion: Ablauf Artikel Nr. 957218 Knaur Man muss auch mal loslassen können Roman
URL;VALUE=URI:https://www.myauktion.com/versteigerung7647-position2440451-knaur-man-muss-auch-mal-loslassen-koennen-roman.php
DESCRIPTION:
UID:myauktion-7647-2440451
BEGIN:VALARM
ACTION:DISPLAY
DESCRIPTION:
TRIGGER:-PT10M
END:VALARM
END:VEVENT
END:VCALENDAR