BEGIN:VCALENDAR
VERSION:2.0
PRODID:-//Goldgrube//myauktion.com//AT
CALSCALE:GREGORIAN
BEGIN:VEVENT
DTSTART:20260504T092100
DTEND:20260504T092130
LOCATION:Gewerbepark 13, 8562 Mooskirchen
DTSTAMP:20260420T162240
SUMMARY:MyAuktion: Ablauf Artikel Nr. 957220 Finn geht in Therapie Christina Ebner
URL;VALUE=URI:https://www.myauktion.com/versteigerung7647-position2440453-finn-geht-in-therapie-christina-ebner.php
DESCRIPTION:
UID:myauktion-7647-2440453
BEGIN:VALARM
ACTION:DISPLAY
DESCRIPTION:
TRIGGER:-PT10M
END:VALARM
END:VEVENT
END:VCALENDAR