BEGIN:VCALENDAR
VERSION:2.0
PRODID:-//Goldgrube//myauktion.com//AT
CALSCALE:GREGORIAN
BEGIN:VEVENT
DTSTART:20260504T092200
DTEND:20260504T092230
LOCATION:Gewerbepark 13, 8562 Mooskirchen
DTSTAMP:20260420T162239
SUMMARY:MyAuktion: Ablauf Artikel Nr. 957221 Finn geht in Therapie
URL;VALUE=URI:https://www.myauktion.com/versteigerung7647-position2440454-finn-geht-in-therapie.php
DESCRIPTION:Autor: Christina Ebner
UID:myauktion-7647-2440454
BEGIN:VALARM
ACTION:DISPLAY
DESCRIPTION:Autor: Christina Ebner
TRIGGER:-PT10M
END:VALARM
END:VEVENT
END:VCALENDAR