BEGIN:VCALENDAR
VERSION:2.0
PRODID:-//Goldgrube//myauktion.com//AT
CALSCALE:GREGORIAN
BEGIN:VEVENT
DTSTART:20260504T092300
DTEND:20260504T092330
LOCATION:Gewerbepark 13, 8562 Mooskirchen
DTSTAMP:20260420T162244
SUMMARY:MyAuktion: Ablauf Artikel Nr. 957222 Filapen Magische Bücher Das Original von 2. Auflage
URL;VALUE=URI:https://www.myauktion.com/versteigerung7647-position2440455-filapen-magische-buecher-das-original-von-2-auflage.php
DESCRIPTION:
UID:myauktion-7647-2440455
BEGIN:VALARM
ACTION:DISPLAY
DESCRIPTION:
TRIGGER:-PT10M
END:VALARM
END:VEVENT
END:VCALENDAR