BEGIN:VCALENDAR
VERSION:2.0
PRODID:-//Goldgrube//myauktion.com//AT
CALSCALE:GREGORIAN
BEGIN:VEVENT
DTSTART:20260504T092400
DTEND:20260504T092430
LOCATION:Gewerbepark 13, 8562 Mooskirchen
DTSTAMP:20260420T162240
SUMMARY:MyAuktion: Ablauf Artikel Nr. 957223 Big Fat Notebook Alles, was du für Mathe brauchst
URL;VALUE=URI:https://www.myauktion.com/versteigerung7647-position2440456-big-fat-notebook-alles-was-du-fuer-mathe-brauchst.php
DESCRIPTION:Das geballte Wissen von der 5. bis zur 9. Klasse
UID:myauktion-7647-2440456
BEGIN:VALARM
ACTION:DISPLAY
DESCRIPTION:Das geballte Wissen von der 5. bis zur 9. Klasse
TRIGGER:-PT10M
END:VALARM
END:VEVENT
END:VCALENDAR