BEGIN:VCALENDAR
VERSION:2.0
PRODID:-//Goldgrube//myauktion.com//AT
CALSCALE:GREGORIAN
BEGIN:VEVENT
DTSTART:20260504T092500
DTEND:20260504T092530
LOCATION:Gewerbepark 13, 8562 Mooskirchen
DTSTAMP:20260420T162240
SUMMARY:MyAuktion: Ablauf Artikel Nr. 957224 Ulrike Fuchs Ein Café in Budapest Roman
URL;VALUE=URI:https://www.myauktion.com/versteigerung7647-position2440457-ulrike-fuchs-ein-cafe-in-budapest-roman.php
DESCRIPTION:
UID:myauktion-7647-2440457
BEGIN:VALARM
ACTION:DISPLAY
DESCRIPTION:
TRIGGER:-PT10M
END:VALARM
END:VEVENT
END:VCALENDAR