BEGIN:VCALENDAR
VERSION:2.0
PRODID:-//Goldgrube//myauktion.com//AT
CALSCALE:GREGORIAN
BEGIN:VEVENT
DTSTART:20260504T092700
DTEND:20260504T092730
LOCATION:Gewerbepark 13, 8562 Mooskirchen
DTSTAMP:20260420T162248
SUMMARY:MyAuktion: Ablauf Artikel Nr. 957226 Sophie Irwin Wie man sich einen Lord angelt Roman
URL;VALUE=URI:https://www.myauktion.com/versteigerung7647-position2440459-sophie-irwin-wie-man-sich-einen-lord-angelt-roman.php
DESCRIPTION:
UID:myauktion-7647-2440459
BEGIN:VALARM
ACTION:DISPLAY
DESCRIPTION:
TRIGGER:-PT10M
END:VALARM
END:VEVENT
END:VCALENDAR