BEGIN:VCALENDAR
VERSION:2.0
PRODID:-//Goldgrube//myauktion.com//AT
CALSCALE:GREGORIAN
BEGIN:VEVENT
DTSTART:20260504T092900
DTEND:20260504T092930
LOCATION:Gewerbepark 13, 8562 Mooskirchen
DTSTAMP:20260420T162250
SUMMARY:MyAuktion: Ablauf Artikel Nr. 957228 Tríona Walsh Schnee Sturm Thriller
URL;VALUE=URI:https://www.myauktion.com/versteigerung7647-position2440461-trona-walsh-schnee-sturm-thriller.php
DESCRIPTION:
UID:myauktion-7647-2440461
BEGIN:VALARM
ACTION:DISPLAY
DESCRIPTION:
TRIGGER:-PT10M
END:VALARM
END:VEVENT
END:VCALENDAR