BEGIN:VCALENDAR
VERSION:2.0
PRODID:-//Goldgrube//myauktion.com//AT
CALSCALE:GREGORIAN
BEGIN:VEVENT
DTSTART:20260504T093200
DTEND:20260504T093230
LOCATION:Gewerbepark 13, 8562 Mooskirchen
DTSTAMP:20260420T162249
SUMMARY:MyAuktion: Ablauf Artikel Nr. 957231 Nicole Walter Wie Sonne und Mond Roman
URL;VALUE=URI:https://www.myauktion.com/versteigerung7647-position2440464-nicole-walter-wie-sonne-und-mond-roman.php
DESCRIPTION:
UID:myauktion-7647-2440464
BEGIN:VALARM
ACTION:DISPLAY
DESCRIPTION:
TRIGGER:-PT10M
END:VALARM
END:VEVENT
END:VCALENDAR