BEGIN:VCALENDAR
VERSION:2.0
PRODID:-//Goldgrube//myauktion.com//AT
CALSCALE:GREGORIAN
BEGIN:VEVENT
DTSTART:20260504T093300
DTEND:20260504T093330
LOCATION:Gewerbepark 13, 8562 Mooskirchen
DTSTAMP:20260420T162250
SUMMARY:MyAuktion: Ablauf Artikel Nr. 957232 NGV Das dicke Sommer Rätsel Buch
URL;VALUE=URI:https://www.myauktion.com/versteigerung7647-position2440465-ngv-das-dicke-sommer-raetsel-buch.php
DESCRIPTION:Extras: Spielvorlagen & Ausmalbilder
UID:myauktion-7647-2440465
BEGIN:VALARM
ACTION:DISPLAY
DESCRIPTION:Extras: Spielvorlagen & Ausmalbilder
TRIGGER:-PT10M
END:VALARM
END:VEVENT
END:VCALENDAR