BEGIN:VCALENDAR
VERSION:2.0
PRODID:-//Goldgrube//myauktion.com//AT
CALSCALE:GREGORIAN
BEGIN:VEVENT
DTSTART:20260504T093700
DTEND:20260504T093730
LOCATION:Gewerbepark 13, 8562 Mooskirchen
DTSTAMP:20260420T162250
SUMMARY:MyAuktion: Ablauf Artikel Nr. 957236 Riva 50 Workouts Raus aus der Schmerzfalle
URL;VALUE=URI:https://www.myauktion.com/versteigerung7647-position2440469-riva-50-workouts-raus-aus-der-schmerzfalle.php
DESCRIPTION:
UID:myauktion-7647-2440469
BEGIN:VALARM
ACTION:DISPLAY
DESCRIPTION:
TRIGGER:-PT10M
END:VALARM
END:VEVENT
END:VCALENDAR