BEGIN:VCALENDAR
VERSION:2.0
PRODID:-//Goldgrube//myauktion.com//AT
CALSCALE:GREGORIAN
BEGIN:VEVENT
DTSTART:20260504T093800
DTEND:20260504T093830
LOCATION:Gewerbepark 13, 8562 Mooskirchen
DTSTAMP:20260420T162247
SUMMARY:MyAuktion: Ablauf Artikel Nr. 957237 Gabi Fastner 50 Workouts für Späteinsteiger
URL;VALUE=URI:https://www.myauktion.com/versteigerung7647-position2440470-gabi-fastner-50-workouts-fuer-spaeteinsteiger.php
DESCRIPTION:Fit, gesund und beweglich bis ins hohe Alter
UID:myauktion-7647-2440470
BEGIN:VALARM
ACTION:DISPLAY
DESCRIPTION:Fit, gesund und beweglich bis ins hohe Alter
TRIGGER:-PT10M
END:VALARM
END:VEVENT
END:VCALENDAR