BEGIN:VCALENDAR
VERSION:2.0
PRODID:-//Goldgrube//myauktion.com//AT
CALSCALE:GREGORIAN
BEGIN:VEVENT
DTSTART:20260504T094000
DTEND:20260504T094030
LOCATION:Gewerbepark 13, 8562 Mooskirchen
DTSTAMP:20260420T162245
SUMMARY:MyAuktion: Ablauf Artikel Nr. 957239 HEYNE Der Wind und die Wellen Roman
URL;VALUE=URI:https://www.myauktion.com/versteigerung7647-position2440472-heyne-der-wind-und-die-wellen-roman.php
DESCRIPTION:
UID:myauktion-7647-2440472
BEGIN:VALARM
ACTION:DISPLAY
DESCRIPTION:
TRIGGER:-PT10M
END:VALARM
END:VEVENT
END:VCALENDAR