BEGIN:VCALENDAR
VERSION:2.0
PRODID:-//Goldgrube//myauktion.com//AT
CALSCALE:GREGORIAN
BEGIN:VEVENT
DTSTART:20260504T094200
DTEND:20260504T094230
LOCATION:Gewerbepark 13, 8562 Mooskirchen
DTSTAMP:20260420T162249
SUMMARY:MyAuktion: Ablauf Artikel Nr. 957241 Katharina Brinkmann 50 Workouts Yoga
URL;VALUE=URI:https://www.myauktion.com/versteigerung7647-position2440474-katharina-brinkmann-50-workouts-yoga.php
DESCRIPTION:Die besten Übungsreihen für Kraft, Beweglichkeit und Entspannung
UID:myauktion-7647-2440474
BEGIN:VALARM
ACTION:DISPLAY
DESCRIPTION:Die besten Übungsreihen für Kraft, Beweglichkeit und Entspannung
TRIGGER:-PT10M
END:VALARM
END:VEVENT
END:VCALENDAR