BEGIN:VCALENDAR
VERSION:2.0
PRODID:-//Goldgrube//myauktion.com//AT
CALSCALE:GREGORIAN
BEGIN:VEVENT
DTSTART:20260504T094300
DTEND:20260504T094330
LOCATION:Gewerbepark 13, 8562 Mooskirchen
DTSTAMP:20260420T162249
SUMMARY:MyAuktion: Ablauf Artikel Nr. 957242 Thorsten Tschirner 50 Workouts für starke Bauchmuskeln
URL;VALUE=URI:https://www.myauktion.com/versteigerung7647-position2440475-thorsten-tschirner-50-workouts-fuer-starke-bauchmuskeln.php
DESCRIPTION:Die effektivsten Übungsreihen für einen flachen Bauch und eine definierte Körpermitte
UID:myauktion-7647-2440475
BEGIN:VALARM
ACTION:DISPLAY
DESCRIPTION:Die effektivsten Übungsreihen für einen flachen Bauch und eine definierte Körpermitte
TRIGGER:-PT10M
END:VALARM
END:VEVENT
END:VCALENDAR