BEGIN:VCALENDAR
VERSION:2.0
PRODID:-//Goldgrube//myauktion.com//AT
CALSCALE:GREGORIAN
BEGIN:VEVENT
DTSTART:20260504T094900
DTEND:20260504T094930
LOCATION:Gewerbepark 13, 8562 Mooskirchen
DTSTAMP:20260420T162251
SUMMARY:MyAuktion: Ablauf Artikel Nr. 957248 Finn geht in Therapie
URL;VALUE=URI:https://www.myauktion.com/versteigerung7647-position2440481-finn-geht-in-therapie.php
DESCRIPTION:Autor: Christina Ebner
UID:myauktion-7647-2440481
BEGIN:VALARM
ACTION:DISPLAY
DESCRIPTION:Autor: Christina Ebner
TRIGGER:-PT10M
END:VALARM
END:VEVENT
END:VCALENDAR