BEGIN:VCALENDAR
VERSION:2.0
PRODID:-//Goldgrube//myauktion.com//AT
CALSCALE:GREGORIAN
BEGIN:VEVENT
DTSTART:20260504T095000
DTEND:20260504T095030
LOCATION:Gewerbepark 13, 8562 Mooskirchen
DTSTAMP:20260420T162251
SUMMARY:MyAuktion: Ablauf Artikel Nr. 957249 Finn geht in Therapie
URL;VALUE=URI:https://www.myauktion.com/versteigerung7647-position2440482-finn-geht-in-therapie.php
DESCRIPTION:
UID:myauktion-7647-2440482
BEGIN:VALARM
ACTION:DISPLAY
DESCRIPTION:
TRIGGER:-PT10M
END:VALARM
END:VEVENT
END:VCALENDAR