BEGIN:VCALENDAR
VERSION:2.0
PRODID:-//Goldgrube//myauktion.com//AT
CALSCALE:GREGORIAN
BEGIN:VEVENT
DTSTART:20260504T095500
DTEND:20260504T095530
LOCATION:Gewerbepark 13, 8562 Mooskirchen
DTSTAMP:20260420T134641
SUMMARY:MyAuktion: Ablauf Artikel Nr. 957254 Balli Kaur Jaswal Die unglaubliche Reise von Sitas Töchtern Roman
URL;VALUE=URI:https://www.myauktion.com/versteigerung7647-position2440487-balli-kaur-jaswal-die-unglaubliche-reise-von-sitas-toechtern-roman.php
DESCRIPTION:
UID:myauktion-7647-2440487
BEGIN:VALARM
ACTION:DISPLAY
DESCRIPTION:
TRIGGER:-PT10M
END:VALARM
END:VEVENT
END:VCALENDAR