BEGIN:VCALENDAR
VERSION:2.0
PRODID:-//Goldgrube//myauktion.com//AT
CALSCALE:GREGORIAN
BEGIN:VEVENT
DTSTART:20260504T095600
DTEND:20260504T095630
LOCATION:Gewerbepark 13, 8562 Mooskirchen
DTSTAMP:20260420T162250
SUMMARY:MyAuktion: Ablauf Artikel Nr. 957255 Kerri Maher Die Buchhändlerin von Paris Roman
URL;VALUE=URI:https://www.myauktion.com/versteigerung7647-position2440488-kerri-maher-die-buchhaendlerin-von-paris-roman.php
DESCRIPTION:
UID:myauktion-7647-2440488
BEGIN:VALARM
ACTION:DISPLAY
DESCRIPTION:
TRIGGER:-PT10M
END:VALARM
END:VEVENT
END:VCALENDAR