BEGIN:VCALENDAR
VERSION:2.0
PRODID:-//Goldgrube//myauktion.com//AT
CALSCALE:GREGORIAN
BEGIN:VEVENT
DTSTART:20260504T095800
DTEND:20260504T095830
LOCATION:Gewerbepark 13, 8562 Mooskirchen
DTSTAMP:20260420T162249
SUMMARY:MyAuktion: Ablauf Artikel Nr. 957257 Leo Lausemaus wünscht sich ein Geschwisterchen Buch
URL;VALUE=URI:https://www.myauktion.com/versteigerung7647-position2440490-leo-lausemaus-wuenscht-sich-ein-geschwisterchen-buch.php
DESCRIPTION:
UID:myauktion-7647-2440490
BEGIN:VALARM
ACTION:DISPLAY
DESCRIPTION:
TRIGGER:-PT10M
END:VALARM
END:VEVENT
END:VCALENDAR