BEGIN:VCALENDAR
VERSION:2.0
PRODID:-//Goldgrube//myauktion.com//AT
CALSCALE:GREGORIAN
BEGIN:VEVENT
DTSTART:20260504T095900
DTEND:20260504T095930
LOCATION:Gewerbepark 13, 8562 Mooskirchen
DTSTAMP:20260420T162244
SUMMARY:MyAuktion: Ablauf Artikel Nr. 957258 Riva Gesund mit der Kraft Natur
URL;VALUE=URI:https://www.myauktion.com/versteigerung7647-position2440491-riva-gesund-mit-der-kraft-natur.php
DESCRIPTION:4 Methoden, Ihr körpereigenes Vitamin D zu aktivieren
UID:myauktion-7647-2440491
BEGIN:VALARM
ACTION:DISPLAY
DESCRIPTION:4 Methoden, Ihr körpereigenes Vitamin D zu aktivieren
TRIGGER:-PT10M
END:VALARM
END:VEVENT
END:VCALENDAR