BEGIN:VCALENDAR
VERSION:2.0
PRODID:-//Goldgrube//myauktion.com//AT
CALSCALE:GREGORIAN
BEGIN:VEVENT
DTSTART:20260504T100000
DTEND:20260504T100030
LOCATION:Gewerbepark 13, 8562 Mooskirchen
DTSTAMP:20260420T162238
SUMMARY:MyAuktion: Ablauf Artikel Nr. 957259 Anja Wagner Magic Agents In Dublin sind die Feen los!
URL;VALUE=URI:https://www.myauktion.com/versteigerung7647-position2440492-anja-wagner-magic-agents-in-dublin-sind-die-feen-los.php
DESCRIPTION:
UID:myauktion-7647-2440492
BEGIN:VALARM
ACTION:DISPLAY
DESCRIPTION:
TRIGGER:-PT10M
END:VALARM
END:VEVENT
END:VCALENDAR