BEGIN:VCALENDAR
VERSION:2.0
PRODID:-//Goldgrube//myauktion.com//AT
CALSCALE:GREGORIAN
BEGIN:VEVENT
DTSTART:20260504T100100
DTEND:20260504T100130
LOCATION:Gewerbepark 13, 8562 Mooskirchen
DTSTAMP:20260420T162237
SUMMARY:MyAuktion: Ablauf Artikel Nr. 957260 Klaus-Peter Wolf Ein mörderisches Paar Der Verdacht Ostfriesenkrimi
URL;VALUE=URI:https://www.myauktion.com/versteigerung7647-position2440493-klaus-peter-wolf-ein-moerderisches-paar-der-verdacht-ostfriesenkrimi.php
DESCRIPTION:
UID:myauktion-7647-2440493
BEGIN:VALARM
ACTION:DISPLAY
DESCRIPTION:
TRIGGER:-PT10M
END:VALARM
END:VEVENT
END:VCALENDAR