BEGIN:VCALENDAR
VERSION:2.0
PRODID:-//Goldgrube//myauktion.com//AT
CALSCALE:GREGORIAN
BEGIN:VEVENT
DTSTART:20260504T100300
DTEND:20260504T100330
LOCATION:Gewerbepark 13, 8562 Mooskirchen
DTSTAMP:20260424T115947
SUMMARY:MyAuktion: Ablauf Artikel Nr. 957262 esslinger ALLES ECHT WAHR! oder Rabenstarke Schwindelgeschichten für alle Gelegenheiten
URL;VALUE=URI:https://www.myauktion.com/versteigerung7647-position2440495-esslinger-alles-echt-wahr-oder-rabenstarke-schwindelgeschichten-fuer-alle-gelegenheiten.php
DESCRIPTION:
UID:myauktion-7647-2440495
BEGIN:VALARM
ACTION:DISPLAY
DESCRIPTION:
TRIGGER:-PT10M
END:VALARM
END:VEVENT
END:VCALENDAR