BEGIN:VCALENDAR
VERSION:2.0
PRODID:-//Goldgrube//myauktion.com//AT
CALSCALE:GREGORIAN
BEGIN:VEVENT
DTSTART:20260504T100400
DTEND:20260504T100430
LOCATION:Gewerbepark 13, 8562 Mooskirchen
DTSTAMP:20260423T020922
SUMMARY:MyAuktion: Ablauf Artikel Nr. 957263 Oetinger Geschichten vom Franz Christine Nöstlinger beschädigt
URL;VALUE=URI:https://www.myauktion.com/versteigerung7647-position2440496-oetinger-geschichten-vom-franz-christine-noestlinger-beschaedigt.php
DESCRIPTION:
UID:myauktion-7647-2440496
BEGIN:VALARM
ACTION:DISPLAY
DESCRIPTION:
TRIGGER:-PT10M
END:VALARM
END:VEVENT
END:VCALENDAR