BEGIN:VCALENDAR
VERSION:2.0
PRODID:-//Goldgrube//myauktion.com//AT
CALSCALE:GREGORIAN
BEGIN:VEVENT
DTSTART:20260504T100500
DTEND:20260504T100530
LOCATION:Gewerbepark 13, 8562 Mooskirchen
DTSTAMP:20260420T140648
SUMMARY:MyAuktion: Ablauf Artikel Nr. 957264 CARLSEN Der kleine Rabe Socke und seine Freunde Bilderbuch
URL;VALUE=URI:https://www.myauktion.com/versteigerung7647-position2440497-carlsen-der-kleine-rabe-socke-und-seine-freunde-bilderbuch.php
DESCRIPTION:
UID:myauktion-7647-2440497
BEGIN:VALARM
ACTION:DISPLAY
DESCRIPTION:
TRIGGER:-PT10M
END:VALARM
END:VEVENT
END:VCALENDAR