BEGIN:VCALENDAR
VERSION:2.0
PRODID:-//Goldgrube//myauktion.com//AT
CALSCALE:GREGORIAN
BEGIN:VEVENT
DTSTART:20260504T100600
DTEND:20260504T100630
LOCATION:Gewerbepark 13, 8562 Mooskirchen
DTSTAMP:20260420T140648
SUMMARY:MyAuktion: Ablauf Artikel Nr. 957265 Fitzek Das Kalendermädchen Limited Edition
URL;VALUE=URI:https://www.myauktion.com/versteigerung7647-position2440498-fitzek-das-kalendermaedchen-limited-edition.php
DESCRIPTION:
UID:myauktion-7647-2440498
BEGIN:VALARM
ACTION:DISPLAY
DESCRIPTION:
TRIGGER:-PT10M
END:VALARM
END:VEVENT
END:VCALENDAR