BEGIN:VCALENDAR
VERSION:2.0
PRODID:-//Goldgrube//myauktion.com//AT
CALSCALE:GREGORIAN
BEGIN:VEVENT
DTSTART:20260504T101100
DTEND:20260504T101130
LOCATION:Gewerbepark 13, 8562 Mooskirchen
DTSTAMP:20260420T162251
SUMMARY:MyAuktion: Ablauf Artikel Nr. 957270 ullstein Dem Tod nah Linwood Barclay Thriller
URL;VALUE=URI:https://www.myauktion.com/versteigerung7647-position2440503-ullstein-dem-tod-nah-linwood-barclay-thriller.php
DESCRIPTION:
UID:myauktion-7647-2440503
BEGIN:VALARM
ACTION:DISPLAY
DESCRIPTION:
TRIGGER:-PT10M
END:VALARM
END:VEVENT
END:VCALENDAR