BEGIN:VCALENDAR
VERSION:2.0
PRODID:-//Goldgrube//myauktion.com//AT
CALSCALE:GREGORIAN
BEGIN:VEVENT
DTSTART:20260504T101200
DTEND:20260504T101230
LOCATION:Gewerbepark 13, 8562 Mooskirchen
DTSTAMP:20260420T162247
SUMMARY:MyAuktion: Ablauf Artikel Nr. 957271 Johanna Laurin Die Bucht der Lupinen Roman
URL;VALUE=URI:https://www.myauktion.com/versteigerung7647-position2440504-johanna-laurin-die-bucht-der-lupinen-roman.php
DESCRIPTION:
UID:myauktion-7647-2440504
BEGIN:VALARM
ACTION:DISPLAY
DESCRIPTION:
TRIGGER:-PT10M
END:VALARM
END:VEVENT
END:VCALENDAR