BEGIN:VCALENDAR
VERSION:2.0
PRODID:-//Goldgrube//myauktion.com//AT
CALSCALE:GREGORIAN
BEGIN:VEVENT
DTSTART:20260504T101400
DTEND:20260504T101430
LOCATION:Gewerbepark 13, 8562 Mooskirchen
DTSTAMP:20260420T192225
SUMMARY:MyAuktion: Ablauf Artikel Nr. 957273 Minecraft Ein gefährlicher Code!
URL;VALUE=URI:https://www.myauktion.com/versteigerung7647-position2440506-minecraft-ein-gefaehrlicher-code.php
DESCRIPTION:Ein offizielles Minecraft-Abenteuer
UID:myauktion-7647-2440506
BEGIN:VALARM
ACTION:DISPLAY
DESCRIPTION:Ein offizielles Minecraft-Abenteuer
TRIGGER:-PT10M
END:VALARM
END:VEVENT
END:VCALENDAR