BEGIN:VCALENDAR
VERSION:2.0
PRODID:-//Goldgrube//myauktion.com//AT
CALSCALE:GREGORIAN
BEGIN:VEVENT
DTSTART:20260504T102100
DTEND:20260504T102130
LOCATION:Gewerbepark 13, 8562 Mooskirchen
DTSTAMP:20260420T162243
SUMMARY:MyAuktion: Ablauf Artikel Nr. 957280 Orbis Verlag Deutsch Leicht Gemacht Diktate und Ergänzungsübungen
URL;VALUE=URI:https://www.myauktion.com/versteigerung7647-position2440513-orbis-verlag-deutsch-leicht-gemacht-diktate-und-ergaenzungsuebungen.php
DESCRIPTION:12.03.2024
UID:myauktion-7647-2440513
BEGIN:VALARM
ACTION:DISPLAY
DESCRIPTION:12.03.2024
TRIGGER:-PT10M
END:VALARM
END:VEVENT
END:VCALENDAR