BEGIN:VCALENDAR
VERSION:2.0
PRODID:-//Goldgrube//myauktion.com//AT
CALSCALE:GREGORIAN
BEGIN:VEVENT
DTSTART:20260504T102200
DTEND:20260504T102230
LOCATION:Gewerbepark 13, 8562 Mooskirchen
DTSTAMP:20260420T162241
SUMMARY:MyAuktion: Ablauf Artikel Nr. 957281 Katherine Webb Der Tote von Wiltshire Lockyer & Broad ermitteln
URL;VALUE=URI:https://www.myauktion.com/versteigerung7647-position2440514-katherine-webb-der-tote-von-wiltshire-lockyer-broad-ermitteln.php
DESCRIPTION:
UID:myauktion-7647-2440514
BEGIN:VALARM
ACTION:DISPLAY
DESCRIPTION:
TRIGGER:-PT10M
END:VALARM
END:VEVENT
END:VCALENDAR