BEGIN:VCALENDAR
VERSION:2.0
PRODID:-//Goldgrube//myauktion.com//AT
CALSCALE:GREGORIAN
BEGIN:VEVENT
DTSTART:20260504T102300
DTEND:20260504T102330
LOCATION:Gewerbepark 13, 8562 Mooskirchen
DTSTAMP:20260420T192225
SUMMARY:MyAuktion: Ablauf Artikel Nr. 957282 Veganes Kochbuch
URL;VALUE=URI:https://www.myauktion.com/versteigerung7647-position2440515-veganes-kochbuch.php
DESCRIPTION:Die leckersten veganen Rezepte für eine pflanzliche & gesunde Ernährung im Alltag. Inkl. Saisonkalender und den besten Tipps für die vegane Ernährung
UID:myauktion-7647-2440515
BEGIN:VALARM
ACTION:DISPLAY
DESCRIPTION:Die leckersten veganen Rezepte für eine pflanzliche & gesunde Ernährung im Alltag. Inkl. Saisonkalender und den besten Tipps für die vegane Ernährung
TRIGGER:-PT10M
END:VALARM
END:VEVENT
END:VCALENDAR