BEGIN:VCALENDAR
VERSION:2.0
PRODID:-//Goldgrube//myauktion.com//AT
CALSCALE:GREGORIAN
BEGIN:VEVENT
DTSTART:20260504T102500
DTEND:20260504T102530
LOCATION:Gewerbepark 13, 8562 Mooskirchen
DTSTAMP:20260420T134641
SUMMARY:MyAuktion: Ablauf Artikel Nr. 957284 Ravensburger Dragon Ninjas Der Drache des Himmels
URL;VALUE=URI:https://www.myauktion.com/versteigerung7647-position2440517-ravensburger-dragon-ninjas-der-drache-des-himmels.php
DESCRIPTION:
UID:myauktion-7647-2440517
BEGIN:VALARM
ACTION:DISPLAY
DESCRIPTION:
TRIGGER:-PT10M
END:VALARM
END:VEVENT
END:VCALENDAR