BEGIN:VCALENDAR
VERSION:2.0
PRODID:-//Goldgrube//myauktion.com//AT
CALSCALE:GREGORIAN
BEGIN:VEVENT
DTSTART:20260504T102600
DTEND:20260504T102630
LOCATION:Gewerbepark 13, 8562 Mooskirchen
DTSTAMP:20260420T134641
SUMMARY:MyAuktion: Ablauf Artikel Nr. 957285 NGV VEGAN BACKEN Rezeptbuch beschädigt
URL;VALUE=URI:https://www.myauktion.com/versteigerung7647-position2440518-ngv-vegan-backen-rezeptbuch-beschaedigt.php
DESCRIPTION:Über 60 süße & herzhafte Rezepte
UID:myauktion-7647-2440518
BEGIN:VALARM
ACTION:DISPLAY
DESCRIPTION:Über 60 süße & herzhafte Rezepte
TRIGGER:-PT10M
END:VALARM
END:VEVENT
END:VCALENDAR