BEGIN:VCALENDAR
VERSION:2.0
PRODID:-//Goldgrube//myauktion.com//AT
CALSCALE:GREGORIAN
BEGIN:VEVENT
DTSTART:20260504T102700
DTEND:20260504T102730
LOCATION:Gewerbepark 13, 8562 Mooskirchen
DTSTAMP:20260420T162238
SUMMARY:MyAuktion: Ablauf Artikel Nr. 957286 Frank Tallis Wiener Tod Ein Fall für Max Liebermann
URL;VALUE=URI:https://www.myauktion.com/versteigerung7647-position2440519-frank-tallis-wiener-tod-ein-fall-fuer-max-liebermann.php
DESCRIPTION:
UID:myauktion-7647-2440519
BEGIN:VALARM
ACTION:DISPLAY
DESCRIPTION:
TRIGGER:-PT10M
END:VALARM
END:VEVENT
END:VCALENDAR