BEGIN:VCALENDAR
VERSION:2.0
PRODID:-//Goldgrube//myauktion.com//AT
CALSCALE:GREGORIAN
BEGIN:VEVENT
DTSTART:20260504T103000
DTEND:20260504T103030
LOCATION:Gewerbepark 13, 8562 Mooskirchen
DTSTAMP:20260420T193833
SUMMARY:MyAuktion: Ablauf Artikel Nr. 957289 Jeffery Deaver Vatermörder Colter-Shaw-Thriller
URL;VALUE=URI:https://www.myauktion.com/versteigerung7647-position2440522-jeffery-deaver-vatermoerder-colter-shaw-thriller.php
DESCRIPTION:
UID:myauktion-7647-2440522
BEGIN:VALARM
ACTION:DISPLAY
DESCRIPTION:
TRIGGER:-PT10M
END:VALARM
END:VEVENT
END:VCALENDAR