BEGIN:VCALENDAR
VERSION:2.0
PRODID:-//Goldgrube//myauktion.com//AT
CALSCALE:GREGORIAN
BEGIN:VEVENT
DTSTART:20260504T103300
DTEND:20260504T103330
LOCATION:Gewerbepark 13, 8562 Mooskirchen
DTSTAMP:20260420T193833
SUMMARY:MyAuktion: Ablauf Artikel Nr. 957292 Die Lolli-Gäng sucht das Abenteuer
URL;VALUE=URI:https://www.myauktion.com/versteigerung7647-position2440525-die-lolli-gaeng-sucht-das-abenteuer.php
DESCRIPTION:Mit Illustrationen von Susanne Göhlich
UID:myauktion-7647-2440525
BEGIN:VALARM
ACTION:DISPLAY
DESCRIPTION:Mit Illustrationen von Susanne Göhlich
TRIGGER:-PT10M
END:VALARM
END:VEVENT
END:VCALENDAR