BEGIN:VCALENDAR
VERSION:2.0
PRODID:-//Goldgrube//myauktion.com//AT
CALSCALE:GREGORIAN
BEGIN:VEVENT
DTSTART:20260504T103400
DTEND:20260504T103430
LOCATION:Gewerbepark 13, 8562 Mooskirchen
DTSTAMP:20260420T162242
SUMMARY:MyAuktion: Ablauf Artikel Nr. 957293 Der Diamantschneider Die Weisheit des Diamanten
URL;VALUE=URI:https://www.myauktion.com/versteigerung7647-position2440526-der-diamantschneider-die-weisheit-des-diamanten.php
DESCRIPTION:Buddhistische Prinzipien für beruflichen Erfolg und privates Glück. Neuauflage des internationalen Bestsellers von Geshe Michael Roach
UID:myauktion-7647-2440526
BEGIN:VALARM
ACTION:DISPLAY
DESCRIPTION:Buddhistische Prinzipien für beruflichen Erfolg und privates Glück. Neuauflage des internationalen Bestsellers von Geshe Michael Roach
TRIGGER:-PT10M
END:VALARM
END:VEVENT
END:VCALENDAR