BEGIN:VCALENDAR
VERSION:2.0
PRODID:-//Goldgrube//myauktion.com//AT
CALSCALE:GREGORIAN
BEGIN:VEVENT
DTSTART:20260504T103500
DTEND:20260504T103530
LOCATION:Gewerbepark 13, 8562 Mooskirchen
DTSTAMP:20260420T193833
SUMMARY:MyAuktion: Ablauf Artikel Nr. 957294 T.C. Boyle Blue Skies Taschenbuch
URL;VALUE=URI:https://www.myauktion.com/versteigerung7647-position2440527-tc-boyle-blue-skies-taschenbuch.php
DESCRIPTION:
UID:myauktion-7647-2440527
BEGIN:VALARM
ACTION:DISPLAY
DESCRIPTION:
TRIGGER:-PT10M
END:VALARM
END:VEVENT
END:VCALENDAR