BEGIN:VCALENDAR
VERSION:2.0
PRODID:-//Goldgrube//myauktion.com//AT
CALSCALE:GREGORIAN
BEGIN:VEVENT
DTSTART:20260504T103700
DTEND:20260504T103730
LOCATION:Gewerbepark 13, 8562 Mooskirchen
DTSTAMP:20260420T182830
SUMMARY:MyAuktion: Ablauf Artikel Nr. 957296 NO-ISBN on self-publishing
URL;VALUE=URI:https://www.myauktion.com/versteigerung7647-position2440529-no-isbn-on-self-publishing.php
DESCRIPTION:
UID:myauktion-7647-2440529
BEGIN:VALARM
ACTION:DISPLAY
DESCRIPTION:
TRIGGER:-PT10M
END:VALARM
END:VEVENT
END:VCALENDAR