BEGIN:VCALENDAR
VERSION:2.0
PRODID:-//Goldgrube//myauktion.com//AT
CALSCALE:GREGORIAN
BEGIN:VEVENT
DTSTART:20260504T103800
DTEND:20260504T103830
LOCATION:Gewerbepark 13, 8562 Mooskirchen
DTSTAMP:20260420T140649
SUMMARY:MyAuktion: Ablauf Artikel Nr. 957297 Twilight Saga Complete Collection Stephenie Meyer
URL;VALUE=URI:https://www.myauktion.com/versteigerung7647-position2440530-twilight-saga-complete-collection-stephenie-meyer.php
DESCRIPTION:6-teiliges Set mit den Büchern: Twilight, New Moon, Eclipse, Breaking Dawn, Midnight Sun und Life and Death
UID:myauktion-7647-2440530
BEGIN:VALARM
ACTION:DISPLAY
DESCRIPTION:6-teiliges Set mit den Büchern: Twilight, New Moon, Eclipse, Breaking Dawn, Midnight Sun und Life and Death
TRIGGER:-PT10M
END:VALARM
END:VEVENT
END:VCALENDAR