BEGIN:VCALENDAR
VERSION:2.0
PRODID:-//Goldgrube//myauktion.com//AT
CALSCALE:GREGORIAN
BEGIN:VEVENT
DTSTART:20260504T103900
DTEND:20260504T103930
LOCATION:Gewerbepark 13, 8562 Mooskirchen
DTSTAMP:20260420T124554
SUMMARY:MyAuktion: Ablauf Artikel Nr. 957298 Jojo Moyes Das Haus der Wiederkehr Roman
URL;VALUE=URI:https://www.myauktion.com/versteigerung7647-position2440531-jojo-moyes-das-haus-der-wiederkehr-roman.php
DESCRIPTION:
UID:myauktion-7647-2440531
BEGIN:VALARM
ACTION:DISPLAY
DESCRIPTION:
TRIGGER:-PT10M
END:VALARM
END:VEVENT
END:VCALENDAR