BEGIN:VCALENDAR
VERSION:2.0
PRODID:-//Goldgrube//myauktion.com//AT
CALSCALE:GREGORIAN
BEGIN:VEVENT
DTSTART:20260504T104200
DTEND:20260504T104230
LOCATION:Gewerbepark 13, 8562 Mooskirchen
DTSTAMP:20260420T162245
SUMMARY:MyAuktion: Ablauf Artikel Nr. 957301 Paluten Freedom Reise zum Mittelschlund der Erde
URL;VALUE=URI:https://www.myauktion.com/versteigerung7647-position2440534-paluten-freedom-reise-zum-mittelschlund-der-erde.php
DESCRIPTION:
UID:myauktion-7647-2440534
BEGIN:VALARM
ACTION:DISPLAY
DESCRIPTION:
TRIGGER:-PT10M
END:VALARM
END:VEVENT
END:VCALENDAR