BEGIN:VCALENDAR
VERSION:2.0
PRODID:-//Goldgrube//myauktion.com//AT
CALSCALE:GREGORIAN
BEGIN:VEVENT
DTSTART:20260504T104300
DTEND:20260504T104330
LOCATION:Gewerbepark 13, 8562 Mooskirchen
DTSTAMP:20260420T162248
SUMMARY:MyAuktion: Ablauf Artikel Nr. 957302 Integral Was das Leben dir schenkt Lucy Claire Dunbar
URL;VALUE=URI:https://www.myauktion.com/versteigerung7647-position2440535-integral-was-das-leben-dir-schenkt-lucy-claire-dunbar.php
DESCRIPTION:
UID:myauktion-7647-2440535
BEGIN:VALARM
ACTION:DISPLAY
DESCRIPTION:
TRIGGER:-PT10M
END:VALARM
END:VEVENT
END:VCALENDAR