BEGIN:VCALENDAR
VERSION:2.0
PRODID:-//Goldgrube//myauktion.com//AT
CALSCALE:GREGORIAN
BEGIN:VEVENT
DTSTART:20260504T104400
DTEND:20260504T104430
LOCATION:Gewerbepark 13, 8562 Mooskirchen
DTSTAMP:20260420T162244
SUMMARY:MyAuktion: Ablauf Artikel Nr. 957303 Sheko Balance beginnt bei Dir! Dein Sheko-Guide zum Wohlfühl-Ich
URL;VALUE=URI:https://www.myauktion.com/versteigerung7647-position2440536-sheko-balance-beginnt-bei-dir-dein-sheko-guide-zum-wohlfuehl-ich.php
DESCRIPTION:#NAME?
UID:myauktion-7647-2440536
BEGIN:VALARM
ACTION:DISPLAY
DESCRIPTION:#NAME?
TRIGGER:-PT10M
END:VALARM
END:VEVENT
END:VCALENDAR