BEGIN:VCALENDAR
VERSION:2.0
PRODID:-//Goldgrube//myauktion.com//AT
CALSCALE:GREGORIAN
BEGIN:VEVENT
DTSTART:20260504T104500
DTEND:20260504T104530
LOCATION:Gewerbepark 13, 8562 Mooskirchen
DTSTAMP:20260420T162244
SUMMARY:MyAuktion: Ablauf Artikel Nr. 957304 Das große Buch von Pauli
URL;VALUE=URI:https://www.myauktion.com/versteigerung7647-position2440537-das-grosse-buch-von-pauli.php
DESCRIPTION:
UID:myauktion-7647-2440537
BEGIN:VALARM
ACTION:DISPLAY
DESCRIPTION:
TRIGGER:-PT10M
END:VALARM
END:VEVENT
END:VCALENDAR