BEGIN:VCALENDAR
VERSION:2.0
PRODID:-//Goldgrube//myauktion.com//AT
CALSCALE:GREGORIAN
BEGIN:VEVENT
DTSTART:20260504T104700
DTEND:20260504T104730
LOCATION:Gewerbepark 13, 8562 Mooskirchen
DTSTAMP:20260420T162251
SUMMARY:MyAuktion: Ablauf Artikel Nr. 957306 Linda Blankemeyer veganes Fitness Kochbuch
URL;VALUE=URI:https://www.myauktion.com/versteigerung7647-position2440539-linda-blankemeyer-veganes-fitness-kochbuch.php
DESCRIPTION:Gesunde & leckere High-Protein-Sattmacher, ideal für Training & Muskelaufbau. Bonus-Rezepte per Download
UID:myauktion-7647-2440539
BEGIN:VALARM
ACTION:DISPLAY
DESCRIPTION:Gesunde & leckere High-Protein-Sattmacher, ideal für Training & Muskelaufbau. Bonus-Rezepte per Download
TRIGGER:-PT10M
END:VALARM
END:VEVENT
END:VCALENDAR